BEGIN:VCALENDAR
VERSION:2.0
PRODID:-//SafetyNL - ECPv6.2.8.2//NONSGML v1.0//EN
CALSCALE:GREGORIAN
METHOD:PUBLISH
X-ORIGINAL-URL:https://safetynl.ca
X-WR-CALDESC:Events for SafetyNL
REFRESH-INTERVAL;VALUE=DURATION:PT1H
X-Robots-Tag:noindex
X-PUBLISHED-TTL:PT1H
BEGIN:VTIMEZONE
TZID:America/St_Johns
BEGIN:DAYLIGHT
TZOFFSETFROM:-0330
TZOFFSETTO:-0230
TZNAME:NDT
DTSTART:20240310T053000
END:DAYLIGHT
BEGIN:STANDARD
TZOFFSETFROM:-0230
TZOFFSETTO:-0330
TZNAME:NST
DTSTART:20241103T043000
END:STANDARD
END:VTIMEZONE
BEGIN:VEVENT
DTSTART;TZID=America/St_Johns:20241119T083000
DTEND;TZID=America/St_Johns:20241120T040000
DTSTAMP:20260421T112837
CREATED:20240317T221758Z
LAST-MODIFIED:20241001T211745Z
UID:3976-1732005000-1732075200@safetynl.ca
SUMMARY:OHS Committee Level 1
DESCRIPTION:
URL:https://safetynl.ca/event/ohs-committee-level-1-14/
END:VEVENT
BEGIN:VEVENT
DTSTART;TZID=America/St_Johns:20241120T083000
DTEND;TZID=America/St_Johns:20241120T160000
DTSTAMP:20260421T112837
CREATED:20240320T221756Z
LAST-MODIFIED:20241001T211745Z
UID:3985-1732091400-1732118400@safetynl.ca
SUMMARY:Confined Space Entry & Attendant Day 2
DESCRIPTION:
URL:https://safetynl.ca/event/confined-space-entry-attendant-day-2-6/
END:VEVENT
BEGIN:VEVENT
DTSTART;TZID=America/St_Johns:20241120T083000
DTEND;TZID=America/St_Johns:20241120T160000
DTSTAMP:20260421T112837
CREATED:20240323T221753Z
LAST-MODIFIED:20241001T211745Z
UID:3993-1732091400-1732118400@safetynl.ca
SUMMARY:OHS Committee Level 2
DESCRIPTION:
URL:https://safetynl.ca/event/ohs-committee-level-2-13/
END:VEVENT
END:VCALENDAR