BEGIN:VCALENDAR
VERSION:2.0
PRODID:-//SafetyNL - ECPv6.2.8.2//NONSGML v1.0//EN
CALSCALE:GREGORIAN
METHOD:PUBLISH
X-WR-CALNAME:SafetyNL
X-ORIGINAL-URL:https://safetynl.ca
X-WR-CALDESC:Events for SafetyNL
REFRESH-INTERVAL;VALUE=DURATION:PT1H
X-Robots-Tag:noindex
X-PUBLISHED-TTL:PT1H
BEGIN:VTIMEZONE
TZID:America/St_Johns
BEGIN:DAYLIGHT
TZOFFSETFROM:-0330
TZOFFSETTO:-0230
TZNAME:NDT
DTSTART:20240310T053000
END:DAYLIGHT
BEGIN:STANDARD
TZOFFSETFROM:-0230
TZOFFSETTO:-0330
TZNAME:NST
DTSTART:20241103T043000
END:STANDARD
END:VTIMEZONE
BEGIN:VEVENT
DTSTART;TZID=America/St_Johns:20241205T083000
DTEND;TZID=America/St_Johns:20241205T123000
DTSTAMP:20260421T095433
CREATED:20240414T233249Z
LAST-MODIFIED:20241001T211745Z
UID:11920-1733387400-1733401800@safetynl.ca
SUMMARY:Powerline Hazards
DESCRIPTION:
URL:https://safetynl.ca/event/powerline-hazards-13/
END:VEVENT
BEGIN:VEVENT
DTSTART;TZID=America/St_Johns:20241205T083000
DTEND;TZID=America/St_Johns:20241205T160000
DTSTAMP:20260421T095433
CREATED:20240416T233310Z
LAST-MODIFIED:20241001T211745Z
UID:11927-1733387400-1733414400@safetynl.ca
SUMMARY:Gas Detection
DESCRIPTION:
URL:https://safetynl.ca/event/gas-detection-12/
END:VEVENT
END:VCALENDAR